BEGIN:VCALENDAR
VERSION:2.0
PRODID:-//Squarespace Inc/Squarespace 6//v6//EN
BEGIN:VEVENT
UID:5de0f38551c72e2c5e192d6a@squarespace.com
DTSTAMP:20191129T103330Z
DTSTART:20200313T114500Z
DTEND:20200314T023000Z
SUMMARY:Up Late with The Boys Club
END:VEVENT
END:VCALENDAR
