BEGIN:VCALENDAR
VERSION:2.0
PRODID:-//Squarespace Inc/Squarespace 6//v6//EN
BEGIN:VEVENT
UID:5de0f3a811c57f4363f22959@squarespace.com
DTSTAMP:20191129T103318Z
DTSTART:20200314T114500Z
DTEND:20200314T143000Z
SUMMARY:Up Late with The Boys Club
END:VEVENT
END:VCALENDAR
