BEGIN:VCALENDAR
VERSION:2.0
PRODID:-//Squarespace Inc/Squarespace 6//v6//EN
BEGIN:VEVENT
UID:5de0f195f26533387af75a90@squarespace.com
DTSTAMP:20191129T102716Z
DTSTART:20200215T043000Z
DTEND:20200215T053000Z
SUMMARY:The Boys Club - EP Launch
END:VEVENT
END:VCALENDAR
