BEGIN:VCALENDAR
VERSION:2.0
PRODID:-//Squarespace Inc/Squarespace 6//v6//EN
BEGIN:VEVENT
UID:5ccc125aea82dc00015996ae@squarespace.com
DTSTAMP:20190503T101046Z
DTSTART:20190512T003000Z
DTEND:20190512T043000Z
SUMMARY:Mother's Day at Oceanique
END:VEVENT
END:VCALENDAR
