BEGIN:VCALENDAR
VERSION:2.0
PRODID:-//Squarespace Inc/Squarespace 6//v6//EN
BEGIN:VEVENT
UID:5ccc10efe5e5f017dc523cbb@squarespace.com
DTSTAMP:20190505T051038Z
DTSTART:20190511T093000Z
DTEND:20190511T133000Z
SUMMARY:The Family Bushdance with Max Savage
END:VEVENT
END:VCALENDAR
