BEGIN:VCALENDAR
VERSION:2.0
PRODID:-//Squarespace Inc/Squarespace 6//v6//EN
BEGIN:VEVENT
UID:5c628110ec212dd536de477d@squarespace.com
DTSTAMP:20190212T083659Z
DTSTART:20190216T080000Z
DTEND:20190216T103000Z
SUMMARY:Sing-along to the songs of Ireland
END:VEVENT
END:VCALENDAR
