BEGIN:VCALENDAR
VERSION:2.0
PRODID:-//Squarespace Inc/Squarespace 6//v6//EN
BEGIN:VEVENT
UID:5b38e23b88251b4f1d7dcc14@squarespace.com
DTSTAMP:20180822T115216Z
DTSTART:20180705T100000Z
DTEND:20180705T130000Z
SUMMARY:Kate Fuller & The Boys Club
END:VEVENT
END:VCALENDAR
