BEGIN:VCALENDAR
VERSION:2.0
PRODID:-//Squarespace Inc/Squarespace 6//v6//EN
BEGIN:VEVENT
UID:5b7d4dd14ae237335354aa23@squarespace.com
DTSTAMP:20180822T115312Z
DTSTART:20180927T100000Z
DTEND:20180927T130000Z
SUMMARY:Kate Fuller & The Boys Club at NOLA
END:VEVENT
END:VCALENDAR
