BEGIN:VCALENDAR
VERSION:2.0
PRODID:-//Squarespace Inc/Squarespace 6//v6//EN
BEGIN:VEVENT
UID:5b0a63030e2e723b7447630b@squarespace.com
DTSTAMP:20180723T014727Z
DTSTART:20180825T103000Z
DTEND:20180825T133000Z
SUMMARY:I Like Men - Album Launch - Jazz Lab
END:VEVENT
END:VCALENDAR
