BEGIN:VCALENDAR
VERSION:2.0
PRODID:-//Squarespace Inc/Squarespace 6//v6//EN
BEGIN:VEVENT
UID:5ac9622c1ae6cf686abb4c70@squarespace.com
DTSTAMP:20180527T074855Z
DTSTART:20180629T110000Z
DTEND:20180629T140000Z
SUMMARY:Tales of Love and Murder + Naomi Keyte
END:VEVENT
END:VCALENDAR
