BEGIN:VCALENDAR
VERSION:2.0
PRODID:-//Squarespace Inc/Squarespace 6//v6//EN
BEGIN:VEVENT
UID:5a2b7ca7c83025c512a19e13@squarespace.com
DTSTAMP:20180114T084352Z
DTSTART:20180225T053000Z
DTEND:20180225T063000Z
SUMMARY:Tales of Love and Murder - Adelaide Fringe
END:VEVENT
END:VCALENDAR
