BEGIN:VCALENDAR
VERSION:2.0
PRODID:-//Squarespace Inc/Squarespace 6//v6//EN
BEGIN:VEVENT
UID:5a83f85fec212d810a6245c3@squarespace.com
DTSTAMP:20180214T085354Z
DTSTART:20180218T023000Z
DTEND:20180218T053000Z
SUMMARY:All Stars at The Newmarket
END:VEVENT
END:VCALENDAR
