BEGIN:VCALENDAR
VERSION:2.0
PRODID:-//Squarespace Inc/Squarespace 6//v6//EN
BEGIN:VEVENT
UID:5a5af91f0d9297b4ef529d8f@squarespace.com
DTSTAMP:20180114T063849Z
DTSTART:20180120T093000Z
DTEND:20180120T113000Z
SUMMARY:Summer Soiree: An Evening With Daniel Koek at Maggie Beer's
END:VEVENT
END:VCALENDAR
