BEGIN:VCALENDAR
VERSION:2.0
PRODID:-//Squarespace Inc/Squarespace 6//v6//EN
BEGIN:VEVENT
UID:593e171315d5db6254cdf892@squarespace.com
DTSTAMP:20170612T042654Z
DTSTART:20170618T033000Z
DTEND:20170618T063000Z
SUMMARY:The All Stars
END:VEVENT
END:VCALENDAR
