BEGIN:VCALENDAR
VERSION:2.0
PRODID:-//Squarespace Inc/Squarespace 6//v6//EN
BEGIN:VEVENT
UID:5a0ab056e2c483d6cbdf14f5@squarespace.com
DTSTAMP:20171114T091242Z
DTSTART:20171121T090000Z
DTEND:20171121T113000Z
SUMMARY:Southern Jazz Club
END:VEVENT
END:VCALENDAR
