BEGIN:VCALENDAR
VERSION:2.0
PRODID:-//Squarespace Inc/Squarespace 6//v6//EN
BEGIN:VEVENT
UID:5a5afb5924a69410fa948735@squarespace.com
DTSTAMP:20180114T064250Z
DTSTART:20180206T090000Z
DTEND:20180206T113000Z
SUMMARY:Southern Jazz Club
END:VEVENT
END:VCALENDAR
