BEGIN:VCALENDAR
VERSION:2.0
PRODID:-//Squarespace Inc/Squarespace 6//v6//EN
BEGIN:VEVENT
UID:5a5afbeae4966b7a1c10fe19@squarespace.com
DTSTAMP:20180114T064357Z
DTSTART:20180220T090000Z
DTEND:20180220T113000Z
SUMMARY:Southern Jazz Club
END:VEVENT
END:VCALENDAR
