BEGIN:VCALENDAR
VERSION:2.0
PRODID:-//Squarespace Inc/Squarespace 6//v6//EN
BEGIN:VEVENT
UID:5979bd7020099e0bff5c31eb@squarespace.com
DTSTAMP:20171016T104559Z
DTSTART:20171015T033000Z
DTEND:20171015T063000Z
SUMMARY:Kate Fuller and The Daffodils @ The Kentish Hote
END:VEVENT
END:VCALENDAR
