BEGIN:VCALENDAR
VERSION:2.0
PRODID:-//Squarespace Inc/Squarespace 6//v6//EN
BEGIN:VEVENT
UID:59b68393d55b4168dbf427bb@squarespace.com
DTSTAMP:20170911T124012Z
DTSTART:20171001T083000Z
DTEND:20171001T103000Z
SUMMARY:Sunday Session at The Crown & Anchor
END:VEVENT
END:VCALENDAR
