BEGIN:VCALENDAR
VERSION:2.0
PRODID:-//Squarespace Inc/Squarespace 6//v6//EN
BEGIN:VEVENT
UID:570e3e92f85082287b0e89dd@squarespace.com
DTSTAMP:20160522T061300Z
DTSTART:20160623T110000Z
DTEND:20160623T140000Z
SUMMARY:Kate and the Daffodils + The Being There Project
END:VEVENT
END:VCALENDAR
