BEGIN:VCALENDAR
VERSION:2.0
PRODID:-//Squarespace Inc/Squarespace 6//v6//EN
BEGIN:VEVENT
UID:56af3b78b209430ed47777a8@squarespace.com
DTSTAMP:20160201T110415Z
DTSTART:20160228T071500Z
DTEND:20160228T081500Z
SUMMARY:Hop\, Skip\, Swing
END:VEVENT
END:VCALENDAR
