BEGIN:VCALENDAR
VERSION:2.0
PRODID:-//Squarespace Inc/Squarespace 6//v6//EN
BEGIN:VEVENT
UID:5827a1aaff7c5065482bcab1@squarespace.com
DTSTAMP:20161112T231727Z
DTSTART:20161217T233000Z
DTEND:20161218T003000Z
SUMMARY:Stirling Laneways
END:VEVENT
END:VCALENDAR
