BEGIN:VCALENDAR
VERSION:2.0
PRODID:-//Squarespace Inc/Squarespace 6//v6//EN
BEGIN:VEVENT
UID:5802f675c534a52fce03d757@squarespace.com
DTSTAMP:20161016T034234Z
DTSTART:20161201T093000Z
DTEND:20161201T123000Z
SUMMARY:Kate Fuller at the Exeter\, with Special Guests
END:VEVENT
END:VCALENDAR
