BEGIN:VCALENDAR
VERSION:2.0
PRODID:-//Squarespace Inc/Squarespace 6//v6//EN
BEGIN:VEVENT
UID:5802f5d4d2b857996ca651b2@squarespace.com
DTSTAMP:20161016T033923Z
DTSTART:20161021T103000Z
DTEND:20161021T123000Z
SUMMARY:Special Guest for The Oh Balters\, Rhino Room
END:VEVENT
END:VCALENDAR
