BEGIN:VCALENDAR
VERSION:2.0
PRODID:-//Squarespace Inc/Squarespace 6//v6//EN
BEGIN:VEVENT
UID:54e984d3e4b0f761f482ca88@squarespace.com
DTSTAMP:20150420T033442Z
DTSTART:20150904T090000Z
DTEND:20150904T130000Z
SUMMARY:Soapbox Sessions
END:VEVENT
END:VCALENDAR
