BEGIN:VCALENDAR
VERSION:2.0
PRODID:-//Squarespace Inc/Squarespace 6//v6//EN
BEGIN:VEVENT
UID:54e9843ee4b0b896af9c1422@squarespace.com
DTSTAMP:20150420T033343Z
DTSTART:20150605T090000Z
DTEND:20150605T130000Z
SUMMARY:Soapbox Sessions
END:VEVENT
END:VCALENDAR
