BEGIN:VCALENDAR
VERSION:2.0
PRODID:-//Squarespace Inc/Squarespace 6//v6//EN
BEGIN:VEVENT
UID:54e983e5e4b0904aceb13370@squarespace.com
DTSTAMP:20150420T033322Z
DTSTART:20150501T090000Z
DTEND:20150501T130000Z
SUMMARY:Soapbox Sessions
END:VEVENT
END:VCALENDAR
