BEGIN:VCALENDAR
VERSION:2.0
PRODID:-//Squarespace Inc/Squarespace 6//v6//EN
BEGIN:VEVENT
UID:54e98335e4b021b682c37a20@squarespace.com
DTSTAMP:20150331T102757Z
DTSTART:20150410T080000Z
DTEND:20150410T120000Z
SUMMARY:Soapbox Sessions
END:VEVENT
END:VCALENDAR
