BEGIN:VCALENDAR
VERSION:2.0
PRODID:-//Squarespace Inc/Squarespace 6//v6//EN
BEGIN:VEVENT
UID:55db01b8e4b0c02d897d34af@squarespace.com
DTSTAMP:20150824T114233Z
DTSTART:20151204T060000Z
DTEND:20151204T100000Z
SUMMARY:National Wine Centre Uncorked G.H. MUMM
END:VEVENT
END:VCALENDAR
