BEGIN:VCALENDAR
VERSION:2.0
PRODID:-//Squarespace Inc/Squarespace 6//v6//EN
BEGIN:VEVENT
UID:54e984fbe4b0a4a2247326f2@squarespace.com
DTSTAMP:20150420T033459Z
DTSTART:20151002T090000Z
DTEND:20151002T130000Z
SUMMARY:Soapbox Sessions
END:VEVENT
END:VCALENDAR
